{"text_format":"1","workbook":"xlsx","n_sheets":5,"sheets":["Guests","DB","Links","PM","GDP"],"not_rendered":{"charts":1,"images":15,"macros":1,"external_links":0,"defined_names":15,"comments":0,"pivot_tables":0},"unopened":[],"bounds":{"document_bytes":16777216,"sheet_cells":100000,"rows_first":2000,"rows_last":500,"rows_between":2000,"halvings":0,"cell_chars":16384,"cell_head_chars":4096},"cells_cut":0,"cells_raw":0,"read":"whole","date_system":"1900"}

{"sheet":"Guests","index":0,"n_rows":70,"n_cols":8,"rows_kept":70,"cut":false,"hidden":false,"merged":[]}
["Year","Who Was Invited","Country","Number of times invited","Multiple Guests",null,null,"Invited Reckoner"]
[1950,"President Sukarno","Indonesia",{"$f":"IF(C2=\"\",\"\",COUNTIF($C$2:C2,C2))","v":1},{"$f":"COUNTIF($A$2:A2,A2)","v":1},null,1,"Invited once"]
[1951,"King Tribhuvan Bir Bikram Shah","Nepal",{"$f":"IF(C3=\"\",\"\",COUNTIF($C$2:C3,C3))","v":1},{"$f":"COUNTIF($A$2:A3,A3)","v":1},null,2,"Invited twice"]
[1952,"-","",{"$f":"IF(C4=\"\",\"\",COUNTIF($C$2:C4,C4))","v":""},{"$f":"COUNTIF($A$2:A4,A4)","v":1},null,3,"Invited thrice"]
[1953,"-","",{"$f":"IF(C5=\"\",\"\",COUNTIF($C$2:C5,C5))","v":""},{"$f":"COUNTIF($A$2:A5,A5)","v":1},null,4,"Invited four times"]
[1954,"King Jigme Dorji Wangchuck","Bhutan",{"$f":"IF(C6=\"\",\"\",COUNTIF($C$2:C6,C6))","v":1},{"$f":"COUNTIF($A$2:A6,A6)","v":1},null,5,"Invited five times"]
[1955,"Governor General Malik Ghulam Muhammad","Pakistan",{"$f":"IF(C7=\"\",\"\",COUNTIF($C$2:C7,C7))","v":1},{"$f":"COUNTIF($A$2:A7,A7)","v":1}]
[1956,"-","",{"$f":"IF(C8=\"\",\"\",COUNTIF($C$2:C8,C8))","v":""},{"$f":"COUNTIF($A$2:A8,A8)","v":1}]
[1957,"-","",{"$f":"IF(C9=\"\",\"\",COUNTIF($C$2:C9,C9))","v":""},{"$f":"COUNTIF($A$2:A9,A9)","v":1}]
[1958,"Marshall Ye Jianying","China",{"$f":"IF(C10=\"\",\"\",COUNTIF($C$2:C10,C10))","v":1},{"$f":"COUNTIF($A$2:A10,A10)","v":1}]
[1959,"-","",{"$f":"IF(C11=\"\",\"\",COUNTIF($C$2:C11,C11))","v":""},{"$f":"COUNTIF($A$2:A11,A11)","v":1}]
[1960,"Chairman Kliment Voroshilov","Soviet Union",{"$f":"IF(C12=\"\",\"\",COUNTIF($C$2:C12,C12))","v":1},{"$f":"COUNTIF($A$2:A12,A12)","v":1}]
[1961,"Queen Elizabeth II","United Kingdom",{"$f":"IF(C13=\"\",\"\",COUNTIF($C$2:C13,C13))","v":1},{"$f":"COUNTIF($A$2:A13,A13)","v":1}]
[1962,"-","",{"$f":"IF(C14=\"\",\"\",COUNTIF($C$2:C14,C14))","v":""},{"$f":"COUNTIF($A$2:A14,A14)","v":1}]
[1963,"King Norodom Sihanouk","Cambodia",{"$f":"IF(C15=\"\",\"\",COUNTIF($C$2:C15,C15))","v":1},{"$f":"COUNTIF($A$2:A15,A15)","v":1}]
[1964,"-","",{"$f":"IF(C16=\"\",\"\",COUNTIF($C$2:C16,C16))","v":""},{"$f":"COUNTIF($A$2:A16,A16)","v":1}]
[1965,"Food and Agriculture Minister Rana Abdul Hamid","Pakistan",{"$f":"IF(C17=\"\",\"\",COUNTIF($C$2:C17,C17))","v":2},{"$f":"COUNTIF($A$2:A17,A17)","v":1}]
[1966,"-","",{"$f":"IF(C18=\"\",\"\",COUNTIF($C$2:C18,C18))","v":""},{"$f":"COUNTIF($A$2:A18,A18)","v":1}]
[1967,"-","",{"$f":"IF(C19=\"\",\"\",COUNTIF($C$2:C19,C19))","v":""},{"$f":"COUNTIF($A$2:A19,A19)","v":1}]
[1968,"Chairman Alexei Kosygin","Soviet Union",{"$f":"IF(C20=\"\",\"\",COUNTIF($C$2:C20,C20))","v":2},{"$f":"COUNTIF($A$2:A20,A20)","v":1}]
[1968,"President Josip Broz Tito","Yugoslavia",{"$f":"IF(C21=\"\",\"\",COUNTIF($C$2:C21,C21))","v":1},{"$f":"COUNTIF($A$2:A21,A21)","v":2}]
[1969,"Prime Minister Todor Zhivkov","Bulgaria",{"$f":"IF(C22=\"\",\"\",COUNTIF($C$2:C22,C22))","v":1},{"$f":"COUNTIF($A$2:A22,A22)","v":1}]
[1970,"-","",{"$f":"IF(C23=\"\",\"\",COUNTIF($C$2:C23,C23))","v":""},{"$f":"COUNTIF($A$2:A23,A23)","v":1}]
[1971,"President Julius Nyerere","Tanzania",{"$f":"IF(C24=\"\",\"\",COUNTIF($C$2:C24,C24))","v":1},{"$f":"COUNTIF($A$2:A24,A24)","v":1}]
[1972,"Prime Minister Seewoosagur Ramgoolam ","Mauritius",{"$f":"IF(C25=\"\",\"\",COUNTIF($C$2:C25,C25))","v":1},{"$f":"COUNTIF($A$2:A25,A25)","v":1}]
[1973,"President Mobutu Sese Seko","Zaire",{"$f":"IF(C26=\"\",\"\",COUNTIF($C$2:C26,C26))","v":1},{"$f":"COUNTIF($A$2:A26,A26)","v":1}]
[1974,"President Josip Broz Tito","Yugoslavia",{"$f":"IF(C27=\"\",\"\",COUNTIF($C$2:C27,C27))","v":2},{"$f":"COUNTIF($A$2:A27,A27)","v":1}]
[1974,"Prime Minister Sirimavo Bandaranaike","Sri Lanka",{"$f":"IF(C28=\"\",\"\",COUNTIF($C$2:C28,C28))","v":1},{"$f":"COUNTIF($A$2:A28,A28)","v":2}]
[1975,"President Kenneth Kaunda","Zambia",{"$f":"IF(C29=\"\",\"\",COUNTIF($C$2:C29,C29))","v":1},{"$f":"COUNTIF($A$2:A29,A29)","v":1}]
[1976,"Prime Minister Jacques Chirac","France",{"$f":"IF(C30=\"\",\"\",COUNTIF($C$2:C30,C30))","v":1},{"$f":"COUNTIF($A$2:A30,A30)","v":1}]
[1977,"First Secretary Edward Gierek","Poland",{"$f":"IF(C31=\"\",\"\",COUNTIF($C$2:C31,C31))","v":1},{"$f":"COUNTIF($A$2:A31,A31)","v":1}]
[1978,"President Patrick Hillery","Ireland",{"$f":"IF(C32=\"\",\"\",COUNTIF($C$2:C32,C32))","v":1},{"$f":"COUNTIF($A$2:A32,A32)","v":1}]
[1979,"Prime Minister Malcolm Fraser","Australia",{"$f":"IF(C33=\"\",\"\",COUNTIF($C$2:C33,C33))","v":1},{"$f":"COUNTIF($A$2:A33,A33)","v":1}]
[1980,"President Valéry Giscard d'Estaing","France",{"$f":"IF(C34=\"\",\"\",COUNTIF($C$2:C34,C34))","v":2},{"$f":"COUNTIF($A$2:A34,A34)","v":1}]
[1981,"President Jose Lopez Portillo","Mexico",{"$f":"IF(C35=\"\",\"\",COUNTIF($C$2:C35,C35))","v":1},{"$f":"COUNTIF($A$2:A35,A35)","v":1}]
[1982,"King Juan Carlos I","Spain",{"$f":"IF(C36=\"\",\"\",COUNTIF($C$2:C36,C36))","v":1},{"$f":"COUNTIF($A$2:A36,A36)","v":1}]
[1983,"President Shehu Shagari","Nigeria",{"$f":"IF(C37=\"\",\"\",COUNTIF($C$2:C37,C37))","v":1},{"$f":"COUNTIF($A$2:A37,A37)","v":1}]
[1984,"King Jigme Singye Wangchuck","Bhutan",{"$f":"IF(C38=\"\",\"\",COUNTIF($C$2:C38,C38))","v":2},{"$f":"COUNTIF($A$2:A38,A38)","v":1}]
[1985,"President Raúl Alfonsín","Argentina",{"$f":"IF(C39=\"\",\"\",COUNTIF($C$2:C39,C39))","v":1},{"$f":"COUNTIF($A$2:A39,A39)","v":1}]
[1986,"Prime Minister Andreas Papandreou","Greece",{"$f":"IF(C40=\"\",\"\",COUNTIF($C$2:C40,C40))","v":1},{"$f":"COUNTIF($A$2:A40,A40)","v":1}]
[1987,"President Alan Garcia","Peru",{"$f":"IF(C41=\"\",\"\",COUNTIF($C$2:C41,C41))","v":1},{"$f":"COUNTIF($A$2:A41,A41)","v":1}]
[1988,"President Junius Jayewardene","Sri Lanka",{"$f":"IF(C42=\"\",\"\",COUNTIF($C$2:C42,C42))","v":2},{"$f":"COUNTIF($A$2:A42,A42)","v":1}]
[1989,"General Secretary Nguyen Van Linh","Vietnam",{"$f":"IF(C43=\"\",\"\",COUNTIF($C$2:C43,C43))","v":1},{"$f":"COUNTIF($A$2:A43,A43)","v":1}]
[1990,"Prime Minister Anerood Jugnauth","Mauritius",{"$f":"IF(C44=\"\",\"\",COUNTIF($C$2:C44,C44))","v":2},{"$f":"COUNTIF($A$2:A44,A44)","v":1}]
[1991,"President Maumoon Abdul Gayoom","Maldives",{"$f":"IF(C45=\"\",\"\",COUNTIF($C$2:C45,C45))","v":1},{"$f":"COUNTIF($A$2:A45,A45)","v":1}]
[1992,"President Mário Soares","Portugal",{"$f":"IF(C46=\"\",\"\",COUNTIF($C$2:C46,C46))","v":1},{"$f":"COUNTIF($A$2:A46,A46)","v":1}]
[1993,"Prime Minister John Major","United Kingdom",{"$f":"IF(C47=\"\",\"\",COUNTIF($C$2:C47,C47))","v":2},{"$f":"COUNTIF($A$2:A47,A47)","v":1}]
[1994,"Prime Minister Goh Chok Tong","Singapore",{"$f":"IF(C48=\"\",\"\",COUNTIF($C$2:C48,C48))","v":1},{"$f":"COUNTIF($A$2:A48,A48)","v":1}]
[1995,"President Nelson Mandela","South Africa",{"$f":"IF(C49=\"\",\"\",COUNTIF($C$2:C49,C49))","v":1},{"$f":"COUNTIF($A$2:A49,A49)","v":1}]
[1996,"President Fernando Henrique Cardoso","Brazil",{"$f":"IF(C50=\"\",\"\",COUNTIF($C$2:C50,C50))","v":1},{"$f":"COUNTIF($A$2:A50,A50)","v":1}]
[1997,"Prime Minister Basdeo Panday","Trinidad and Tobago",{"$f":"IF(C51=\"\",\"\",COUNTIF($C$2:C51,C51))","v":1},{"$f":"COUNTIF($A$2:A51,A51)","v":1}]
[1998,"President Jacques Chirac","France",{"$f":"IF(C52=\"\",\"\",COUNTIF($C$2:C52,C52))","v":3},{"$f":"COUNTIF($A$2:A52,A52)","v":1}]
[1999,"King Birendra Bir Bikram Shah Dev","Nepal",{"$f":"IF(C53=\"\",\"\",COUNTIF($C$2:C53,C53))","v":2},{"$f":"COUNTIF($A$2:A53,A53)","v":1}]
[2000,"President Olusegun Obasanjo","Nigeria",{"$f":"IF(C54=\"\",\"\",COUNTIF($C$2:C54,C54))","v":2},{"$f":"COUNTIF($A$2:A54,A54)","v":1}]
[2001,"President Abdelaziz Bouteflika","Algeria",{"$f":"IF(C55=\"\",\"\",COUNTIF($C$2:C55,C55))","v":1},{"$f":"COUNTIF($A$2:A55,A55)","v":1}]
[2002,"President Cassam Uteem","Mauritius",{"$f":"IF(C56=\"\",\"\",COUNTIF($C$2:C56,C56))","v":3},{"$f":"COUNTIF($A$2:A56,A56)","v":1}]
[2003,"President Mohammed Khatami","Iran",{"$f":"IF(C57=\"\",\"\",COUNTIF($C$2:C57,C57))","v":1},{"$f":"COUNTIF($A$2:A57,A57)","v":1}]
[2004,"President Luiz Inacio Lula da Silva ","Brazil",{"$f":"IF(C58=\"\",\"\",COUNTIF($C$2:C58,C58))","v":2},{"$f":"COUNTIF($A$2:A58,A58)","v":1}]
[2005,"King Jigme Singye Wangchuck","Bhutan",{"$f":"IF(C59=\"\",\"\",COUNTIF($C$2:C59,C59))","v":3},{"$f":"COUNTIF($A$2:A59,A59)","v":1}]
[2006,"King Abdullah bin Abdulaziz al-Saud","Saudi Arabia",{"$f":"IF(C60=\"\",\"\",COUNTIF($C$2:C60,C60))","v":1},{"$f":"COUNTIF($A$2:A60,A60)","v":1}]
[2007,"President Vladimir Putin","Russia",{"$f":"IF(C61=\"\",\"\",COUNTIF($C$2:C61,C61))","v":1},{"$f":"COUNTIF($A$2:A61,A61)","v":1}]
[2008,"President Nicolas Sarkozy","France",{"$f":"IF(C62=\"\",\"\",COUNTIF($C$2:C62,C62))","v":4},{"$f":"COUNTIF($A$2:A62,A62)","v":1}]
[2009,"President Nursultan Nazarbayev","Kazakhstan",{"$f":"IF(C63=\"\",\"\",COUNTIF($C$2:C63,C63))","v":1},{"$f":"COUNTIF($A$2:A63,A63)","v":1}]
[2010,"President Lee Myung Bak","South Korea",{"$f":"IF(C64=\"\",\"\",COUNTIF($C$2:C64,C64))","v":1},{"$f":"COUNTIF($A$2:A64,A64)","v":1}]
[2011,"President Susilo Bambang Yudhoyono","Indonesia",{"$f":"IF(C65=\"\",\"\",COUNTIF($C$2:C65,C65))","v":2},{"$f":"COUNTIF($A$2:A65,A65)","v":1}]
[2012,"Prime Minister Yingluck Shinawatra","Thailand",{"$f":"IF(C66=\"\",\"\",COUNTIF($C$2:C66,C66))","v":1},{"$f":"COUNTIF($A$2:A66,A66)","v":1}]
[2013,"King Jigme Khesar Namgyel Wangchuck","Bhutan",{"$f":"IF(C67=\"\",\"\",COUNTIF($C$2:C67,C67))","v":4},{"$f":"COUNTIF($A$2:A67,A67)","v":1}]
[2014,"Prime Minister Shinzo Abe","Japan",{"$f":"IF(C68=\"\",\"\",COUNTIF($C$2:C68,C68))","v":1},{"$f":"COUNTIF($A$2:A68,A68)","v":1}]
[2015,"President Barack Obama","United States",{"$f":"IF(C69=\"\",\"\",COUNTIF($C$2:C69,C69))","v":1},{"$f":"COUNTIF($A$2:A69,A69)","v":1}]
[2016,"President François Hollande","France",{"$f":"IF(C70=\"\",\"\",COUNTIF($C$2:C70,C70))","v":5},{"$f":"COUNTIF($A$2:A70,A70)","v":1}]

{"sheet":"DB","index":1,"n_rows":46,"n_cols":12,"rows_kept":46,"cut":false,"hidden":false,"merged":[[0,2,0,6]]}
[null,null,"INDIAN REPUBLIC DAY : VISUALIZATION"]
[null,null,{"$f":"IF(C4<=0,\"-\",INDEX(GDP!$A$2:$A$70,C4))","v":1957},{"$f":"IF(D4<=0,\"-\",INDEX(GDP!$A$2:$A$70,D4))","v":1958},{"$f":"IF(E4<=0,\"-\",INDEX(GDP!$A$2:$A$70,E4))","v":1959},{"$f":"IF(F4<=0,\"-\",INDEX(GDP!$A$2:$A$70,F4))","v":1960},{"$f":"IF(G4<=0,\"-\",INDEX(GDP!$A$2:$A$70,G4))","v":1961},null,null,null,null,1000000000]
[null,null,{"$f":"C2","v":1957},1958,1959,1960,1961]
[null,null,{"$f":"D4-1","v":8},{"$f":"E4-1","v":9},10,{"$f":"E4+1","v":11},{"$f":"F4+1","v":12}]
[]
[]
[]
[]
[]
[null,null,null,null,"Prime Minister"]
[null,null,null,null,{"$f":"Prime_Minister","v":"Jawaharlal Nehru"}]
[]
[null,null,null,"Guest from",{"$f":"Guest.country","v":""},{"$f":"guest.country2","v":"-"}]
[null,null,null,null,{"$f":"Guest1","v":"-"},{"$f":"guest2","v":"-"}]
[null,null,null,null,{"$f":"Invited","v":"-"},{"$f":"Invited2","v":"-"}]
[]
[null,null,{"$f":"UPPER(\"India's GDP performance since \")&year","v":"INDIA'S GDP PERFORMANCE SINCE 1959"},null,null,null,{"$f":"IFERROR(IF(current.gdp/last.gdp-1>0,TEXT(current.gdp/last.gdp-1,\"0.0%\")&\" Growth over last year\",TEXT(current.gdp/last.gdp-1,\"(0.0)%\")&\" Fall over last year\"),\"-\")","v":"5.0% Growth over last year"}]
[]
[]
[]
[]
[]
[]
[]
[null,null,null,null,null,null,"Figures in Crs"]
[]
[]
[]
[]
[]
[]
[]
[]
[]
[]
[]
[]
[]
[]
[]
[]
[]
[]
[]
[]
[null,null,null,null,7]

{"sheet":"Links","index":2,"n_rows":2,"n_cols":1,"rows_kept":2,"cut":false,"hidden":false,"merged":[]}
["https://en.wikipedia.org/wiki/Economic_history_of_India"]
["https://en.wikipedia.org/wiki/Republic_Day_(India)"]

{"sheet":"PM","index":3,"n_rows":68,"n_cols":10,"rows_kept":68,"cut":false,"hidden":false,"merged":[]}
["Year","Name","Pic"]
[1950,"Jawaharlal Nehru",null,null,null,null,null,null,1950,{"$f":"INDEX($C$2:$C$68,MATCH(year,$A$2:$A$68,0))","v":0}]
[{"$f":"A2+1","v":1951},"Jawaharlal Nehru"]
[{"$f":"A3+1","v":1952},"Jawaharlal Nehru"]
[1953,"Jawaharlal Nehru"]
[1954,"Jawaharlal Nehru"]
[1955,"Jawaharlal Nehru"]
[1956,"Jawaharlal Nehru"]
[1957,"Jawaharlal Nehru"]
[1958,"Jawaharlal Nehru"]
[1959,"Jawaharlal Nehru"]
[1960,"Jawaharlal Nehru"]
[1961,"Jawaharlal Nehru"]
[1962,"Jawaharlal Nehru"]
[1963,"Jawaharlal Nehru"]
[1964,"Jawaharlal Nehru"]
[1965,"Lal Baharur Shastri"]
[1966,"Indira Gandhi"]
[1967,"Indira Gandhi"]
[1968,"Indira Gandhi"]
[1969,"Indira Gandhi"]
[1970,"Indira Gandhi"]
[1971,"Indira Gandhi"]
[1972,"Indira Gandhi"]
[1973,"Indira Gandhi"]
[1974,"Indira Gandhi"]
[1975,"Indira Gandhi"]
[1976,"Indira Gandhi"]
[1977,"Indira Gandhi"]
[1978,"Morarji Desai"]
[1979,"Morarji Desai"]
[1980,"Indira Gandhi"]
[1981,"Indira Gandhi"]
[1982,"Indira Gandhi"]
[1983,"Indira Gandhi"]
[1984,"Indira Gandhi"]
[1985,"Rajiv Gandhi"]
[1986,"Rajiv Gandhi"]
[1987,"Rajiv Gandhi"]
[1988,"Rajiv Gandhi"]
[1989,"Rajiv Gandhi"]
[1990,"VP Singh"]
[1991,"Chandra Shekhar"]
[1992,"P. V. Narasimha Rao"]
[1993,"P. V. Narasimha Rao"]
[1994,"P. V. Narasimha Rao"]
[1995,"P. V. Narasimha Rao"]
[1996,"P. V. Narasimha Rao"]
[1997,"H. D. Deve Gowda"]
[1998,"I. K. Gujral"]
[1999,"Atal Bihari Vajpayee"]
[2000,"Atal Bihari Vajpayee"]
[2001,"Atal Bihari Vajpayee"]
[2002,"Atal Bihari Vajpayee"]
[2003,"Atal Bihari Vajpayee"]
[2004,"Atal Bihari Vajpayee"]
[2005,"Manmohan Singh"]
[2006,"Manmohan Singh"]
[2007,"Manmohan Singh"]
[2008,"Manmohan Singh"]
[2009,"Manmohan Singh"]
[2010,"Manmohan Singh"]
[2011,"Manmohan Singh"]
[2012,"Manmohan Singh"]
[2013,"Manmohan Singh"]
[2014,"Manmohan Singh"]
[2015,"Narendra Modi"]
[{"$f":"A67+1","v":2016},"Narendra Modi"]

{"sheet":"GDP","index":4,"n_rows":68,"n_cols":3,"rows_kept":68,"cut":false,"hidden":false,"merged":[]}
["Year","India's GDP at Current Prices(in crore rupees)"]
[1950,{"$f":"10036*(10^7)","v":100360000000},{"$f":"B2/1000000000","v":100.36}]
[1951,{"$f":"10596*(10^7)","v":105960000000},{"$f":"B3/1000000000","v":105.96}]
[1952,{"$f":"10449*(10^7)","v":104490000000},104.49]
[1953,{"$f":"11378*(10^7)","v":113780000000},113.78]
[1954,{"$f":"10689*(10^7)","v":106890000000},106.89]
[1955,{"$f":"10861*(10^7)","v":108610000000},108.61]
[1956,{"$f":"12965*(10^7)","v":129650000000},129.65]
[1957,{"$f":"13255*(10^7)","v":132550000000},132.55000000000001]
[1958,{"$f":"14827*(10^7)","v":148270000000},148.27000000000001]
[1959,{"$f":"15574*(10^7)","v":155740000000},155.74]
[1960,{"$f":"17049*(10^7)","v":170490000000},170.49]
[1961,{"$f":"17992*(10^7)","v":179920000000},179.92]
[1962,{"$f":"19238*(10^7)","v":192380000000},192.38]
[1963,{"$f":"21986*(10^7)","v":219860000000},219.86]
[1964,{"$f":"25686*(10^7)","v":256860000000},256.86]
[1965,{"$f":"26895*(10^7)","v":268950000000},268.95]
[1966,{"$f":"30613*(10^7)","v":306130000000},306.13]
[1967,{"$f":"35976*(10^7)","v":359760000000},359.76]
[1968,{"$f":"37938*(10^7)","v":379380000000},379.38]
[1969,{"$f":"41722*(10^7)","v":417220000000},417.22]
[1970,{"$f":"44382*(10^7)","v":443820000000},443.82]
[1971,{"$f":"47221*(10^7)","v":472210000000},472.21]
[1972,{"$f":"51943*(10^7)","v":519430000000},519.42999999999995]
[1973,{"$f":"63658*(10^7)","v":636580000000},636.58000000000004]
[1974,{"$f":"74930*(10^7)","v":749300000000},749.3]
[1975,{"$f":"79582*(10^7)","v":795820000000},795.82]
[1976,{"$f":"85545*(10^7)","v":855450000000},855.45]
[1977,{"$f":"97633*(10^7)","v":976330000000},976.33]
[1978,{"$f":"104930*(10^7)","v":1049300000000},1049.3]
[1979,{"$f":"114500*(10^7)","v":1145000000000},1145]
[1980,{"$f":"136838*(10^7)","v":1368380000000},1368.38]
[1981,{"$f":"160214*(10^7)","v":1602140000000},1602.14]
[1982,{"$f":"178985*(10^7)","v":1789850000000},1789.85]
[1983,{"$f":"209356*(10^7)","v":2093560000000},2093.56]
[1984,{"$f":"230526*(10^7)","v":2305260000000},2305.2600000000002]
[1985,{"$f":"262717*(10^7)","v":2627170000000},2627.17]
[1986,{"$f":"292924*(10^7)","v":2929240000000},2929.24]
[1987,{"$f":"332068*(10^7)","v":3320680000000},3320.68]
[1988,{"$f":"396295*(10^7)","v":3962950000000},3962.95]
[1989,{"$f":"456540*(10^7)","v":4565400000000},4565.3999999999996]
[1990,{"$f":"531814*(10^7)","v":5318140000000},5318.14]
[1991,{"$f":"613528*(10^7)","v":6135280000000},6135.28]
[1992,{"$f":"703723*(10^7)","v":7037230000000},7037.23]
[1993,{"$f":"805486*(10^7)","v":8054860000000},8054.86]
[1994,{"$f":"955386*(10^7)","v":9553860000000},9553.86]
[1995,{"$f":"1118586*(10^7)","v":11185860000000},11185.86]
[1996,{"$f":"1301788*(10^7)","v":13017880000000},13017.88]
[1997,{"$f":"1447613*(10^7)","v":14476130000000},14476.13]
[1998,{"$f":"1668739*(10^7)","v":16687390000000},16687.39]
[1999,{"$f":"1858205*(10^7)","v":18582050000000},18582.05]
[2000,{"$f":"2000743*(10^7)","v":20007430000000},20007.43]
[2001,{"$f":"2175260*(10^7)","v":21752600000000},21752.6]
[2002,{"$f":"2343864*(10^7)","v":23438640000000},23438.639999999999]
[2003,{"$f":"2625819*(10^7)","v":26258190000000},26258.19]
[2004,{"$f":"2971464*(10^7)","v":29714640000000},29714.639999999999]
[2005,{"$f":"3390503*(10^7)","v":33905030000000},33905.03]
[2006,{"$f":"3953276*(10^7)","v":39532760000000},39532.76]
[2007,{"$f":"4582086*(10^7)","v":45820860000000},45820.86]
[2008,{"$f":"5303567*(10^7)","v":53035670000000},53035.67]
[2009,{"$f":"6108903*(10^7)","v":61089030000000},61089.03]
[2010,{"$f":"7248860*(10^7)","v":72488600000000},72488.600000000006]
[2011,{"$f":"8391691*(10^7)","v":83916910000000},83916.91]
[2012,{"$f":"9388876*(10^7)","v":93888760000000},93888.76]
[2013,104728070000000,104728.07]
[2014,{"$f":"106.44*10^12","v":106440000000000},106440]
[2015,{"$f":"106.44*10^12","v":106440000000000},106440]
[2016,{"$f":"106.44*10^12","v":106440000000000},106440]